BEGIN:VCALENDAR
VERSION:2.0
PRODID:-//Worship Earth Foundation - ECPv6.0.12//NONSGML v1.0//EN
CALSCALE:GREGORIAN
METHOD:PUBLISH
X-WR-CALNAME:Worship Earth Foundation
X-ORIGINAL-URL:https://www.worshipearthfoundation.com
X-WR-CALDESC:Events for Worship Earth Foundation
REFRESH-INTERVAL;VALUE=DURATION:PT1H
X-Robots-Tag:noindex
X-PUBLISHED-TTL:PT1H
BEGIN:VTIMEZONE
TZID:UTC
BEGIN:STANDARD
TZOFFSETFROM:+0000
TZOFFSETTO:+0000
TZNAME:UTC
DTSTART:20220101T000000
END:STANDARD
END:VTIMEZONE
BEGIN:VEVENT
DTSTART;VALUE=DATE:20220529
DTEND;VALUE=DATE:20220530
DTSTAMP:20260424T125232
CREATED:20220528T064657Z
LAST-MODIFIED:20240719T164213Z
UID:18974-1653782400-1653868799@www.worshipearthfoundation.com
SUMMARY:Jayanti Nala Cleaning Drive
DESCRIPTION:Greetings from the Worship Earth Foundation & Sanjay Ghodawat University\, Kolhapur !!! \n\nWe are conducting Jayanti Nala Cleaning Drive in Kolhapur City. \n\n🪄We cordially invite you to join us as a volunteer and be a part of the change. \n\nLocation\n1. Konda Ol Ghat Laxmipuri (JCB)\n2. Ganesh Mandir Uma Chowk ( Volunteers) \n3. Yalama Mandir ( Volunteers)\n4. Pratibha Nagar Ghat (Jargangar) ( JCB)\n5. Hutatma Garden ( Volunteers) \n\nACTIVITY: \nRiver cleaning (separating the garbage from the water)\, and removing the waste from the river shores will be carried out. \n\nRegistration Form: \nhttps://rb.gy/ik5rmh\nCertificates will be provided to all volunteers. \n\nNote: Activities will be tracked for raising and resolving issues on WE Citizens Application. Therefore\, it is mandatory for all volunteers to register on the WE App.\nFollow the link for downloading the Application- https://www.we-citizens.com/ \n\nJoin us on telegram and stay tuned for event updates- https://t.me/+2DeUMR-_n9pkNWNl
URL:https://www.worshipearthfoundation.com/event/jayanti-nala-cleaning-drive/
CATEGORIES:City Garbage,Clean River
ATTACH;FMTTYPE=image/png:https://www.worshipearthfoundation.com/wp-content/uploads/2020/09/cover.png
END:VEVENT
END:VCALENDAR