BEGIN:VCALENDAR
VERSION:2.0
PRODID:-//Worship Earth Foundation - ECPv6.0.12//NONSGML v1.0//EN
CALSCALE:GREGORIAN
METHOD:PUBLISH
X-WR-CALNAME:Worship Earth Foundation
X-ORIGINAL-URL:https://www.worshipearthfoundation.com
X-WR-CALDESC:Events for Worship Earth Foundation
REFRESH-INTERVAL;VALUE=DURATION:PT1H
X-Robots-Tag:noindex
X-PUBLISHED-TTL:PT1H
BEGIN:VTIMEZONE
TZID:UTC
BEGIN:STANDARD
TZOFFSETFROM:+0000
TZOFFSETTO:+0000
TZNAME:UTC
DTSTART:20220101T000000
END:STANDARD
END:VTIMEZONE
BEGIN:VEVENT
DTSTART;VALUE=DATE:20220126
DTEND;VALUE=DATE:20220207
DTSTAMP:20260422T094620
CREATED:20200909T040221Z
LAST-MODIFIED:20240719T164557Z
UID:2055-1643155200-1644191999@www.worshipearthfoundation.com
SUMMARY:Swachha Pune Swastha Pune
DESCRIPTION:Meet Up		\n				\n				\n				\n			"Indian Swachhta League" Celebration in Pune: Uniting for a Cleaner City		\n				\n				\n				\n								\n				On September 17\, 2023\, the “Indian Swachhta League” was celebrated at Shaniwar Wada\, Pune\, in a grand event organized by the Pune Municipal Corporation\, V Punekar Sanstha\, Vishrip Artha Sanstha\, and various educational institutions\, including MMC College SNDT\, BMCC\, Gokhale Institute\, Mamasaheb Mohol College\, Asian College\, GSMAC College\, Sinhagad College\, Hujurpaga\, HP Desai\, Modern College\, and Cummins College. The event was held in collaboration with Karve Institute\, NYKS\, NSS\, local social organizations\, and other schools and colleges. The event was graced by the presence of the Honorable Commissioner of Pune Municipal Corporation\, the Honorable Deputy Commissioner\, and Dr. Salil Kulkarni\, the Brand Ambassador of the Municipal Corporation\, along with other dignitaries. Thousands of students and local residents participated in this campaign\, taking a unified oath for the cleanliness of Pune. 					\n						\n				\n						\n					\n		\n				\n			\n							\n						\n				\n						\n		\n		\n\n		\n			\n				\n									\n			\n      \n  			Watch This VideoPlay Now      \n		\n\n		\n			\n			  			\n		\n					\n				\n				\n						\n					\n		\n								\n					\n		\n				\n						\n							\n					\n			\n							\n						\n						\n							\n					\n			\n							\n						\n				\n					\n							\n					\n											\n				\n			\n			\n				\n					\n					\n						0					\n\n											\n							+						\n									\n\n									\n						Schools and Colleges Participated					\n							\n		\n				\n				\n						\n					\n		\n				\n			\n							\n						\n				\n					\n							\n					\n											\n				\n			\n			\n				\n					\n					\n						0					\n\n											\n							+						\n									\n\n									\n						Volunteers Participated					\n							\n		\n				\n				\n						\n					\n		\n				\n			\n							\n						\n				\n					\n							\n					\n											\n				\n			\n			\n				\n					\n					\n						0					\n\n											\n							+						\n									\n\n									\n						Community Engagement					\n							\n		\n				\n				\n						\n					\n		\n				\n			\n							\n						\n				\n					\n							\n					\n											\n				\n			\n			\n				\n					\n					\n						0					\n\n											\n							+						\n									\n\n									\n						Ton Waste Collected					\n							\n		\n				\n				\n						\n					\n		\n								\n					\n		\n						\n					\n		\n								\n					\n		\n				\n						\n							\n					\n			\n							\n						\n				\n								\n				The importance of cleanliness was highlighted through various cultural programs\, showcasing the collective spirit and commitment of the community towards a cleaner and healthier environment. 					\n						\n				\n						\n					\n		\n								\n					\n		\n				\n						\n							\n					\n			\n							\n						\n						\n							\n					\n			\n							\n						\n				\n			Mission & Vision 		\n				\n				\n				\n					\n			\n						\n		\n				\n				\n				\n				\n								\n				The vision of the “Indian Swachhta League” celebration is to foster a sense of responsibility and pride among the citizens of Pune towards maintaining a clean and sustainable environment. By bringing together educational institutions\, social organizations\, and local communities\, the event aims to inspire collective action and awareness about the significance of cleanliness and hygiene. Our mission is to engage and educate the community\, especially the youth\, about the importance of cleanliness through interactive and cultural activities. By uniting diverse groups under a common cause\, we seek to create a lasting impact on the city’s environmental health. The campaign endeavors to motivate citizens to adopt sustainable practices in their daily lives\, ensuring that Pune remains a model city for cleanliness and civic responsibility. 					\n						\n				\n						\n					\n		\n				\n			\n							\n						\n				\n								\n																										\n						\n				\n						\n					\n		\n								\n					\n		\n						\n					\n		\n								\n					\n		\n				\n						\n							\n					\n			\n							\n						\n				\n			Indian Swachhta League Gallery		\n				\n				\n				\n					\n			\n			\n				\n			\n			\n				\n			\n			\n				\n			\n			\n				\n			\n			\n				\n			\n			\n				\n			\n			\n				\n			\n			\n				\n			\n			\n				\n			\n		\n		\n				\n				\n						\n					\n		\n								\n					\n		\n				\n						\n							\n					\n			\n							\n						\n				\n			Indian Swachhta League Media		\n				\n				\n				\n					\n			\n			\n				\n			\n			\n				\n			\n			\n				\n			\n			\n				\n			\n			\n				\n			\n			\n				\n			\n			\n				\n			\n			\n				\n			\n			\n				\n			\n			\n				\n			\n			\n				\n			\n			\n				\n			\n			\n				\n			\n		\n		\n				\n				\n						\n					\n		\n								\n					\n		\n				\n						\n							\n					\n			\n							\n						\n				\n			Indian Swachhta League Video
URL:https://www.worshipearthfoundation.com/event/swachha-pune-swastha-pune/
LOCATION:Bhide Bridge\, Baba Bhide BridgePulachi Wadi\, Pune\, Maharashtra\, Pune\, Maharashtra\, 411004\, India
CATEGORIES:Clean River,Clean Water and Sanitation,Global Environment
ATTACH;FMTTYPE=image/png:https://www.worshipearthfoundation.com/wp-content/uploads/2020/09/WE-Foundation.png
END:VEVENT
END:VCALENDAR